Package: MethTargetedNGS Version: 1.41.0 Command: /Library/Frameworks/R.framework/Resources/bin/R CMD INSTALL MethTargetedNGS StartedAt: 2025-07-23 15:26:56 -0400 (Wed, 23 Jul 2025) EndedAt: 2025-07-23 15:27:01 -0400 (Wed, 23 Jul 2025) EllapsedTime: 5.4 seconds RetCode: 0 Status: OK