Package: MethReg Version: 1.19.0 Command: chmod a+r MethReg -R && F:\biocbuild\bbs-3.22-bioc\R\bin\R.exe CMD build --keep-empty-dirs --no-resave-data MethReg StartedAt: 2025-08-14 21:21:35 -0400 (Thu, 14 Aug 2025) EndedAt: 2025-08-14 21:33:51 -0400 (Thu, 14 Aug 2025) EllapsedTime: 735.9 seconds RetCode: 0 Status: OK PackageFile: MethReg_1.19.0.tar.gz PackageFileSize: 5.032 MiB