Package: MethReg Version: 1.19.0 Command: rm -rf MethReg.buildbin-libdir && mkdir MethReg.buildbin-libdir && F:\biocbuild\bbs-3.22-bioc\R\bin\R.exe CMD INSTALL --build --library=MethReg.buildbin-libdir MethReg_1.19.0.tar.gz StartedAt: 2025-08-15 10:40:18 -0400 (Fri, 15 Aug 2025) EndedAt: 2025-08-15 10:41:24 -0400 (Fri, 15 Aug 2025) EllapsedTime: 66.2 seconds RetCode: 0 Status: OK PackageFile: MethReg_1.19.0.zip PackageFileSize: 4.168 MiB