Package: MethPed Version: 1.37.0 Command: /home/biocbuild/bbs-3.22-bioc/R/bin/R CMD build --keep-empty-dirs --no-resave-data --md5 MethPed StartedAt: 2025-10-03 18:31:52 -0400 (Fri, 03 Oct 2025) EndedAt: 2025-10-03 18:33:22 -0400 (Fri, 03 Oct 2025) EllapsedTime: 90.0 seconds RetCode: 0 Status: OK PackageFile: MethPed_1.37.0.tar.gz PackageFileSize: 9.294 MiB