Package: MethPed Version: 1.35.0 Command: /home/biocbuild/R/R/bin/R CMD INSTALL MethPed StartedAt: 2025-01-29 20:14:53 -0000 (Wed, 29 Jan 2025) EndedAt: 2025-01-29 20:15:01 -0000 (Wed, 29 Jan 2025) EllapsedTime: 7.8 seconds RetCode: 0 Status: OK