Package: MetaboSignal Version: 1.39.0 Command: rm -rf MetaboSignal.buildbin-libdir && mkdir MetaboSignal.buildbin-libdir && F:\biocbuild\bbs-3.22-bioc\R\bin\R.exe CMD INSTALL --build --library=MetaboSignal.buildbin-libdir MetaboSignal_1.39.0.tar.gz StartedAt: 2025-08-15 10:39:36 -0400 (Fri, 15 Aug 2025) EndedAt: 2025-08-15 10:41:09 -0400 (Fri, 15 Aug 2025) EllapsedTime: 92.6 seconds RetCode: 0 Status: OK PackageFile: MetaboSignal_1.39.0.zip PackageFileSize: 2.654 MiB