Package: MetaboSignal Version: 1.37.0 Command: rm -rf MetaboSignal.buildbin-libdir && mkdir MetaboSignal.buildbin-libdir && E:\biocbuild\bbs-3.21-bioc\R\bin\R.exe CMD INSTALL --build --library=MetaboSignal.buildbin-libdir MetaboSignal_1.37.0.tar.gz StartedAt: 2025-02-04 08:19:43 -0500 (Tue, 04 Feb 2025) EndedAt: 2025-02-04 08:20:58 -0500 (Tue, 04 Feb 2025) EllapsedTime: 75.3 seconds RetCode: 0 Status: OK PackageFile: MetaboSignal_1.37.0.zip PackageFileSize: 2.655 MiB