Package: MetaboSignal Version: 1.37.0 Command: rm -rf MetaboSignal.buildbin-libdir && mkdir MetaboSignal.buildbin-libdir && /Users/biocbuild/BBS/utils/build-universal.sh MetaboSignal_1.37.0.tar.gz /Library/Frameworks/R.framework/Resources/bin/R MetaboSignal.buildbin-libdir StartedAt: 2025-02-04 00:42:10 -0500 (Tue, 04 Feb 2025) EndedAt: 2025-02-04 00:43:23 -0500 (Tue, 04 Feb 2025) EllapsedTime: 72.9 seconds RetCode: 0 Status: OK PackageFile: MetaboSignal_1.37.0.tgz PackageFileSize: 2.647 MiB