Package: MetaboSignal Version: 1.37.0 Command: /Library/Frameworks/R.framework/Resources/bin/R CMD build --keep-empty-dirs --no-resave-data MetaboSignal StartedAt: 2025-02-03 17:27:43 -0500 (Mon, 03 Feb 2025) EndedAt: 2025-02-03 17:28:41 -0500 (Mon, 03 Feb 2025) EllapsedTime: 57.7 seconds RetCode: 0 Status: OK PackageFile: MetaboSignal_1.37.0.tar.gz PackageFileSize: 2.089 MiB