Package: MetaboDynamics Version: 0.99.18 Command: E:\biocbuild\bbs-3.21-bioc\R\bin\R.exe CMD INSTALL MetaboDynamics StartedAt: 2025-02-03 16:27:19 -0500 (Mon, 03 Feb 2025) EndedAt: 2025-02-03 16:34:53 -0500 (Mon, 03 Feb 2025) EllapsedTime: 453.5 seconds RetCode: 0 Status: OK