Package: MetaboDynamics Version: 0.99.18 Command: chmod a+r MetaboDynamics -R && E:\biocbuild\bbs-3.21-bioc\R\bin\R.exe CMD build --keep-empty-dirs --no-resave-data MetaboDynamics StartedAt: 2025-02-03 19:57:46 -0500 (Mon, 03 Feb 2025) EndedAt: 2025-02-03 20:05:10 -0500 (Mon, 03 Feb 2025) EllapsedTime: 444.4 seconds RetCode: 0 Status: OK PackageFile: MetaboDynamics_0.99.18.tar.gz PackageFileSize: 1.424 MiB