Package: MetaboDynamics Version: 0.99.18 Command: rm -rf MetaboDynamics.buildbin-libdir && mkdir MetaboDynamics.buildbin-libdir && E:\biocbuild\bbs-3.21-bioc\R\bin\R.exe CMD INSTALL --build --library=MetaboDynamics.buildbin-libdir MetaboDynamics_0.99.18.tar.gz StartedAt: 2025-02-04 08:19:33 -0500 (Tue, 04 Feb 2025) EndedAt: 2025-02-04 08:23:12 -0500 (Tue, 04 Feb 2025) EllapsedTime: 218.2 seconds RetCode: 0 Status: OK PackageFile: MetaboDynamics_0.99.18.zip PackageFileSize: 2.483 MiB