Package: MetaboDynamics Version: 0.99.18 Command: /home/biocbuild/bbs-3.21-bioc/R/bin/R CMD INSTALL MetaboDynamics StartedAt: 2025-02-03 15:33:30 -0500 (Mon, 03 Feb 2025) EndedAt: 2025-02-03 15:37:07 -0500 (Mon, 03 Feb 2025) EllapsedTime: 216.8 seconds RetCode: 0 Status: OK