Package: MetaboDynamics Version: 0.99.18 Command: /home/biocbuild/bbs-3.21-bioc/R/bin/R CMD check --install=check:MetaboDynamics.install-out.txt --library=/home/biocbuild/bbs-3.21-bioc/R/site-library --timings MetaboDynamics_0.99.18.tar.gz StartedAt: 2025-02-04 00:02:23 -0500 (Tue, 04 Feb 2025) EndedAt: 2025-02-04 00:10:48 -0500 (Tue, 04 Feb 2025) EllapsedTime: 504.6 seconds RetCode: 0 Status: OK CheckDir: MetaboDynamics.Rcheck Warnings: 0