Package: MetaboDynamics Version: 0.99.18 Command: /home/biocbuild/bbs-3.21-bioc/R/bin/R CMD build --keep-empty-dirs --no-resave-data MetaboDynamics StartedAt: 2025-02-05 18:00:34 -0500 (Wed, 05 Feb 2025) EndedAt: 2025-02-05 18:06:15 -0500 (Wed, 05 Feb 2025) EllapsedTime: 340.3 seconds RetCode: 0 Status: OK PackageFile: MetaboDynamics_0.99.18.tar.gz PackageFileSize: 4.268 MiB