Package: MetaboDynamics Version: 0.99.18 Command: /Library/Frameworks/R.framework/Resources/bin/R CMD INSTALL MetaboDynamics StartedAt: 2025-02-05 15:10:36 -0500 (Wed, 05 Feb 2025) EndedAt: 2025-02-05 15:14:00 -0500 (Wed, 05 Feb 2025) EllapsedTime: 203.6 seconds RetCode: 0 Status: OK