Package: MetaboDynamics Version: 0.99.18 Command: /Library/Frameworks/R.framework/Resources/bin/R CMD check --install=check:MetaboDynamics.install-out.txt --library=/Library/Frameworks/R.framework/Resources/library --no-vignettes --timings MetaboDynamics_0.99.18.tar.gz StartedAt: 2025-02-03 21:33:07 -0500 (Mon, 03 Feb 2025) EndedAt: 2025-02-03 21:40:29 -0500 (Mon, 03 Feb 2025) EllapsedTime: 441.6 seconds RetCode: 0 Status: OK CheckDir: MetaboDynamics.Rcheck Warnings: 0