Package: MetaboDynamics Version: 0.99.18 Command: /Library/Frameworks/R.framework/Resources/bin/R CMD check --install=check:MetaboDynamics.install-out.txt --library=/Library/Frameworks/R.framework/Resources/library --no-vignettes --timings MetaboDynamics_0.99.18.tar.gz StartedAt: 2025-02-05 20:05:47 -0500 (Wed, 05 Feb 2025) EndedAt: 2025-02-05 20:08:21 -0500 (Wed, 05 Feb 2025) EllapsedTime: 153.8 seconds RetCode: 0 Status: OK CheckDir: MetaboDynamics.Rcheck Warnings: 0