Package: MetaboCoreUtils Version: 1.15.0 Command: /home/biocbuild/bbs-3.21-bioc/R/bin/R CMD INSTALL MetaboCoreUtils StartedAt: 2025-02-04 15:11:49 -0500 (Tue, 04 Feb 2025) EndedAt: 2025-02-04 15:11:56 -0500 (Tue, 04 Feb 2025) EllapsedTime: 6.7 seconds RetCode: 0 Status: OK