Package: MetaboCoreUtils Version: 1.15.0 Command: /home/biocbuild/bbs-3.21-bioc/R/bin/R CMD check --install=check:MetaboCoreUtils.install-out.txt --library=/home/biocbuild/bbs-3.21-bioc/R/site-library --timings MetaboCoreUtils_1.15.0.tar.gz StartedAt: 2025-02-04 23:55:10 -0500 (Tue, 04 Feb 2025) EndedAt: 2025-02-04 23:56:06 -0500 (Tue, 04 Feb 2025) EllapsedTime: 56.1 seconds RetCode: 0 Status: OK CheckDir: MetaboCoreUtils.Rcheck Warnings: 0