Package: MetaboAnnotation Version: 1.13.3 Command: /home/biocbuild/R/R/bin/R CMD INSTALL MetaboAnnotation StartedAt: 2025-10-23 20:59:52 -0000 (Thu, 23 Oct 2025) EndedAt: 2025-10-23 21:00:44 -0000 (Thu, 23 Oct 2025) EllapsedTime: 52.1 seconds RetCode: 0 Status: OK