Package: MetaboAnnotation Version: 1.13.3 Command: /home/biocbuild/R/R/bin/R CMD build --keep-empty-dirs --no-resave-data MetaboAnnotation StartedAt: 2025-10-21 01:02:26 -0000 (Tue, 21 Oct 2025) EndedAt: 2025-10-21 01:04:32 -0000 (Tue, 21 Oct 2025) EllapsedTime: 126.0 seconds RetCode: 0 Status: OK PackageFile: MetaboAnnotation_1.13.3.tar.gz PackageFileSize: 1.257 MiB