Package: MetaDICT Version: 1.1.0 Command: /home/biocbuild/bbs-3.23-bioc/R/bin/R CMD INSTALL MetaDICT StartedAt: 2025-11-05 15:16:27 -0500 (Wed, 05 Nov 2025) EndedAt: 2025-11-05 15:16:36 -0500 (Wed, 05 Nov 2025) EllapsedTime: 9.0 seconds RetCode: 0 Status: OK