Package: MetaDICT Version: 0.99.4 Command: /Library/Frameworks/R.framework/Resources/bin/R CMD INSTALL MetaDICT StartedAt: 2025-10-16 15:38:30 -0400 (Thu, 16 Oct 2025) EndedAt: 2025-10-16 15:38:51 -0400 (Thu, 16 Oct 2025) EllapsedTime: 21.1 seconds RetCode: 0 Status: OK