Package: MetaDICT Version: 0.99.4 Command: /Library/Frameworks/R.framework/Resources/bin/R CMD build --keep-empty-dirs --no-resave-data MetaDICT StartedAt: 2025-10-16 18:25:47 -0400 (Thu, 16 Oct 2025) EndedAt: 2025-10-16 18:33:21 -0400 (Thu, 16 Oct 2025) EllapsedTime: 455.0 seconds RetCode: 0 Status: OK PackageFile: MetaDICT_0.99.4.tar.gz PackageFileSize: 2.2 MiB