Package: MetaDICT Version: 0.99.4 Command: /Library/Frameworks/R.framework/Resources/bin/R CMD INSTALL MetaDICT StartedAt: 2025-10-08 15:11:31 -0400 (Wed, 08 Oct 2025) EndedAt: 2025-10-08 15:11:35 -0400 (Wed, 08 Oct 2025) EllapsedTime: 3.8 seconds RetCode: 0 Status: OK