Package: MetaCyto Version: 1.31.0 Command: rm -rf MetaCyto.buildbin-libdir && mkdir MetaCyto.buildbin-libdir && F:\biocbuild\bbs-3.22-bioc\R\bin\R.exe CMD INSTALL --build --library=MetaCyto.buildbin-libdir MetaCyto_1.31.0.tar.gz StartedAt: 2025-08-15 10:39:40 -0400 (Fri, 15 Aug 2025) EndedAt: 2025-08-15 10:40:14 -0400 (Fri, 15 Aug 2025) EllapsedTime: 34.2 seconds RetCode: 0 Status: OK PackageFile: MetaCyto_1.31.0.zip PackageFileSize: 1.034 MiB