Package: MetaCyto Version: 1.33.0 Command: /home/biocbuild/bbs-3.23-bioc/R/bin/R CMD INSTALL MetaCyto StartedAt: 2025-11-03 15:13:33 -0500 (Mon, 03 Nov 2025) EndedAt: 2025-11-03 15:13:48 -0500 (Mon, 03 Nov 2025) EllapsedTime: 14.8 seconds RetCode: 0 Status: OK