Package: MetaCyto Version: 1.33.0 Command: /home/biocbuild/bbs-3.23-bioc/R/bin/R CMD build --keep-empty-dirs --no-resave-data MetaCyto StartedAt: 2025-11-03 18:24:36 -0500 (Mon, 03 Nov 2025) EndedAt: 2025-11-03 18:27:50 -0500 (Mon, 03 Nov 2025) EllapsedTime: 194.2 seconds RetCode: 0 Status: OK PackageFile: MetaCyto_1.33.0.tar.gz PackageFileSize: 1.026 MiB