Package: MetNet Version: 1.25.0 Command: rm -rf MetNet.buildbin-libdir && mkdir MetNet.buildbin-libdir && /Users/biocbuild/BBS/utils/build-universal.sh MetNet_1.25.0.tar.gz /Library/Frameworks/R.framework/Resources/bin/R MetNet.buildbin-libdir StartedAt: 2025-02-17 00:29:43 -0500 (Mon, 17 Feb 2025) EndedAt: 2025-02-17 00:30:21 -0500 (Mon, 17 Feb 2025) EllapsedTime: 38.0 seconds RetCode: 0 Status: OK PackageFile: MetNet_1.25.0.tgz PackageFileSize: 4.366 MiB