Package: MetNet Version: 1.25.0 Command: /home/biocbuild/R/R/bin/R CMD INSTALL MetNet StartedAt: 2025-01-29 19:47:06 -0000 (Wed, 29 Jan 2025) EndedAt: 2025-01-29 19:47:40 -0000 (Wed, 29 Jan 2025) EllapsedTime: 34.0 seconds RetCode: 0 Status: OK