Package: MetNet Version: 1.25.0 Command: /Library/Frameworks/R.framework/Resources/bin/R CMD check --install=check:MetNet.install-out.txt --library=/Library/Frameworks/R.framework/Resources/library --no-vignettes --timings MetNet_1.25.0.tar.gz StartedAt: 2025-02-16 20:01:59 -0500 (Sun, 16 Feb 2025) EndedAt: 2025-02-16 20:04:18 -0500 (Sun, 16 Feb 2025) EllapsedTime: 138.7 seconds RetCode: 0 Status: OK CheckDir: MetNet.Rcheck Warnings: 0