Package: MetMashR Version: 1.3.3 Command: rm -rf MetMashR.buildbin-libdir && mkdir MetMashR.buildbin-libdir && /Users/biocbuild/BBS/utils/build-universal.sh MetMashR_1.3.3.tar.gz /Library/Frameworks/R.framework/Resources/bin/R MetMashR.buildbin-libdir StartedAt: 2025-10-24 23:09:37 -0400 (Fri, 24 Oct 2025) EndedAt: 2025-10-24 23:09:53 -0400 (Fri, 24 Oct 2025) EllapsedTime: 15.3 seconds RetCode: 0 Status: OK PackageFile: MetMashR_1.3.3.tgz PackageFileSize: 6.913 MiB