Package: MetID Version: 1.27.0 Command: /Library/Frameworks/R.framework/Resources/bin/R CMD build --keep-empty-dirs --no-resave-data MetID StartedAt: 2025-05-27 17:22:30 -0400 (Tue, 27 May 2025) EndedAt: 2025-05-27 17:23:03 -0400 (Tue, 27 May 2025) EllapsedTime: 33.1 seconds RetCode: 0 Status: OK PackageFile: MetID_1.27.0.tar.gz PackageFileSize: 1.504 MiB