Package: MetID Version: 1.27.0 Maintainer: Zhenzhi Li MaintainerEmail: zzrickli at gmail.com git_url: https://git.bioconductor.org/packages/MetID git_branch: devel git_last_commit: 5a58d8e git_last_commit_date: 2025-04-15 11:35:30 -0400 (Tue, 15 Apr 2025)