Package: MetCirc Version: 1.39.0 Command: chmod a+r MetCirc -R && F:\biocbuild\bbs-3.22-bioc\R\bin\R.exe CMD build --keep-empty-dirs --no-resave-data MetCirc StartedAt: 2025-08-14 21:20:59 -0400 (Thu, 14 Aug 2025) EndedAt: 2025-08-14 21:23:30 -0400 (Thu, 14 Aug 2025) EllapsedTime: 151.4 seconds RetCode: 0 Status: OK PackageFile: MetCirc_1.39.0.tar.gz PackageFileSize: 2.069 MiB