Package: MetCirc Version: 1.39.0 Command: rm -rf MetCirc.buildbin-libdir && mkdir MetCirc.buildbin-libdir && F:\biocbuild\bbs-3.22-bioc\R\bin\R.exe CMD INSTALL --build --library=MetCirc.buildbin-libdir MetCirc_1.39.0.tar.gz StartedAt: 2025-08-15 10:40:04 -0400 (Fri, 15 Aug 2025) EndedAt: 2025-08-15 10:40:37 -0400 (Fri, 15 Aug 2025) EllapsedTime: 32.5 seconds RetCode: 0 Status: OK PackageFile: MetCirc_1.39.0.zip PackageFileSize: 1.932 MiB