Package: MetCirc Version: 1.37.0 Command: rm -rf MetCirc.buildbin-libdir && mkdir MetCirc.buildbin-libdir && E:\biocbuild\bbs-3.21-bioc\R\bin\R.exe CMD INSTALL --build --library=MetCirc.buildbin-libdir MetCirc_1.37.0.tar.gz StartedAt: 2025-01-11 08:00:43 -0500 (Sat, 11 Jan 2025) EndedAt: 2025-01-11 08:01:07 -0500 (Sat, 11 Jan 2025) EllapsedTime: 23.1 seconds RetCode: 0 Status: OK PackageFile: MetCirc_1.37.0.zip PackageFileSize: 1.932 MiB