Package: MetCirc Version: 1.37.0 Command: /Library/Frameworks/R.framework/Resources/bin/R CMD check --install=check:MetCirc.install-out.txt --library=/Library/Frameworks/R.framework/Resources/library --no-vignettes --timings MetCirc_1.37.0.tar.gz StartedAt: 2025-01-10 21:30:18 -0500 (Fri, 10 Jan 2025) EndedAt: 2025-01-10 21:34:02 -0500 (Fri, 10 Jan 2025) EllapsedTime: 223.9 seconds RetCode: 0 Status: OK CheckDir: MetCirc.Rcheck Warnings: 0