Package: MetCirc Version: 1.39.0 Command: /Library/Frameworks/R.framework/Resources/bin/R CMD build --keep-empty-dirs --no-resave-data MetCirc StartedAt: 2025-05-08 16:53:20 -0400 (Thu, 08 May 2025) EndedAt: 2025-05-08 16:53:43 -0400 (Thu, 08 May 2025) EllapsedTime: 23.2 seconds RetCode: 0 Status: OK PackageFile: MetCirc_1.39.0.tar.gz PackageFileSize: 2.068 MiB