Package: MetCirc Version: 1.39.0 Maintainer: Thomas Naake MaintainerEmail: thomasnaake at googlemail.com git_url: https://git.bioconductor.org/packages/MetCirc git_branch: devel git_last_commit: 0414f89 git_last_commit_date: 2025-04-15 11:02:48 -0400 (Tue, 15 Apr 2025)