Package: MesKit Version: 1.19.0 Command: /home/biocbuild/R/R/bin/R CMD build --keep-empty-dirs --no-resave-data MesKit StartedAt: 2025-10-21 01:01:50 -0000 (Tue, 21 Oct 2025) EndedAt: 2025-10-21 01:04:10 -0000 (Tue, 21 Oct 2025) EllapsedTime: 140.1 seconds RetCode: 0 Status: OK PackageFile: MesKit_1.19.0.tar.gz PackageFileSize: 2.775 MiB