Package: MesKit Version: 1.17.0 Command: /home/biocbuild/bbs-3.21-bioc/R/bin/R CMD check --install=check:MesKit.install-out.txt --library=/home/biocbuild/bbs-3.21-bioc/R/site-library --timings MesKit_1.17.0.tar.gz StartedAt: 2025-02-04 00:01:57 -0500 (Tue, 04 Feb 2025) EndedAt: 2025-02-04 00:11:41 -0500 (Tue, 04 Feb 2025) EllapsedTime: 583.8 seconds RetCode: 0 Status: WARNINGS CheckDir: MesKit.Rcheck Warnings: 1