Package: MesKit Version: 1.17.0 Command: /home/biocbuild/bbs-3.21-bioc/R/bin/R CMD build --keep-empty-dirs --no-resave-data MesKit StartedAt: 2025-02-03 18:09:00 -0500 (Mon, 03 Feb 2025) EndedAt: 2025-02-03 18:10:32 -0500 (Mon, 03 Feb 2025) EllapsedTime: 92.1 seconds RetCode: 0 Status: OK PackageFile: MesKit_1.17.0.tar.gz PackageFileSize: 3.75 MiB