Package: Melissa Version: 1.25.0 Command: /home/biocbuild/R/R/bin/R CMD build --keep-empty-dirs --no-resave-data Melissa StartedAt: 2025-10-03 01:07:01 -0000 (Fri, 03 Oct 2025) EndedAt: 2025-10-03 01:11:22 -0000 (Fri, 03 Oct 2025) EllapsedTime: 261.1 seconds RetCode: 0 Status: OK PackageFile: Melissa_1.25.0.tar.gz PackageFileSize: 2.467 MiB