Package: Melissa Version: 1.25.0 Command: /home/biocbuild/bbs-3.22-bioc/R/bin/R CMD INSTALL Melissa StartedAt: 2025-10-24 15:41:30 -0400 (Fri, 24 Oct 2025) EndedAt: 2025-10-24 15:41:49 -0400 (Fri, 24 Oct 2025) EllapsedTime: 19.8 seconds RetCode: 0 Status: OK