Package: Melissa Version: 1.23.0 Command: /home/biocbuild/bbs-3.21-bioc/R/bin/R CMD INSTALL Melissa StartedAt: 2025-02-16 15:35:20 -0500 (Sun, 16 Feb 2025) EndedAt: 2025-02-16 15:35:37 -0500 (Sun, 16 Feb 2025) EllapsedTime: 17.6 seconds RetCode: 0 Status: OK