Package: Melissa Version: 1.23.0 Command: rm -rf Melissa.buildbin-libdir && mkdir Melissa.buildbin-libdir && /Users/biocbuild/BBS/utils/build-universal.sh Melissa_1.23.0.tar.gz /Library/Frameworks/R.framework/Resources/bin/R Melissa.buildbin-libdir StartedAt: 2025-02-17 00:28:46 -0500 (Mon, 17 Feb 2025) EndedAt: 2025-02-17 00:29:17 -0500 (Mon, 17 Feb 2025) EllapsedTime: 31.2 seconds RetCode: 0 Status: OK PackageFile: Melissa_1.23.0.tgz PackageFileSize: 4.375 MiB