Package: MeSHDbi Version: 1.45.0 Command: /home/biocbuild/bbs-3.22-bioc/R/bin/R CMD INSTALL MeSHDbi StartedAt: 2025-09-30 15:30:05 -0400 (Tue, 30 Sep 2025) EndedAt: 2025-09-30 15:30:17 -0400 (Tue, 30 Sep 2025) EllapsedTime: 12.8 seconds RetCode: 0 Status: OK