Package: MeSHDbi Version: 1.43.0 Command: /Library/Frameworks/R.framework/Resources/bin/R CMD check --install=check:MeSHDbi.install-out.txt --library=/Library/Frameworks/R.framework/Resources/library --no-vignettes --timings MeSHDbi_1.43.0.tar.gz StartedAt: 2025-02-03 21:31:08 -0500 (Mon, 03 Feb 2025) EndedAt: 2025-02-03 21:33:07 -0500 (Mon, 03 Feb 2025) EllapsedTime: 119.2 seconds RetCode: 0 Status: OK CheckDir: MeSHDbi.Rcheck Warnings: 0